BEGIN:VCALENDAR
VERSION:2.0
PRODID:-//UMC - ECPv6.13.1//NONSGML v1.0//EN
CALSCALE:GREGORIAN
METHOD:PUBLISH
X-WR-CALNAME:UMC
X-ORIGINAL-URL:https://umc.us
X-WR-CALDESC:Events for UMC
REFRESH-INTERVAL;VALUE=DURATION:PT1H
X-Robots-Tag:noindex
X-PUBLISHED-TTL:PT1H
BEGIN:VTIMEZONE
TZID:America/Denver
BEGIN:DAYLIGHT
TZOFFSETFROM:-0700
TZOFFSETTO:-0600
TZNAME:MDT
DTSTART:20230312T090000
END:DAYLIGHT
BEGIN:STANDARD
TZOFFSETFROM:-0600
TZOFFSETTO:-0700
TZNAME:MST
DTSTART:20231105T080000
END:STANDARD
BEGIN:DAYLIGHT
TZOFFSETFROM:-0700
TZOFFSETTO:-0600
TZNAME:MDT
DTSTART:20240310T090000
END:DAYLIGHT
BEGIN:STANDARD
TZOFFSETFROM:-0600
TZOFFSETTO:-0700
TZNAME:MST
DTSTART:20241103T080000
END:STANDARD
END:VTIMEZONE
BEGIN:VEVENT
DTSTART;TZID=America/Denver:20240622T100000
DTEND;TZID=America/Denver:20240622T190000
DTSTAMP:20260420T210514
CREATED:20240411T202404Z
LAST-MODIFIED:20240620T211342Z
UID:2348-1719050400-1719082800@umc.us
SUMMARY:2024 UMC Summer Party!
DESCRIPTION:Come and join the fun at the UMC Summer Party! 
URL:https://umc.us/event/2024-umc-summer-party/
LOCATION:Elitch Gardens\, 2000 Elitch Cir\, Denver\, 80204\, United States
ORGANIZER;CN="Events Commitee":MAILTO:events@umc.us
END:VEVENT
BEGIN:VEVENT
DTSTART;TZID=America/Denver:20240503T070000
DTEND;TZID=America/Denver:20240503T130000
DTSTAMP:20260420T210514
CREATED:20230519T203818Z
LAST-MODIFIED:20240228T212317Z
UID:1224-1714719600-1714741200@umc.us
SUMMARY:2024 UMC Golf Tournament
DESCRIPTION:Check-In/Breakfast begins at 7:00 am. The tournament starts at 7:45 am. Spots are limited to 144 golfers. Please RSVP with how many people are coming from your group and your sponsorship purchase.  \n 
URL:https://umc.us/event/2024-umc-golf-tournament/
LOCATION:Thanksgiving Point Golf Club\, 3300 Club House Dr\, Lehi\, 84043\, United States
ATTACH;FMTTYPE=image/jpeg:https://umc.us/umc.us/wp-content/uploads/2023/05/hero-banner.jpg
END:VEVENT
BEGIN:VEVENT
DTSTART;TZID=America/Denver:20240327T070000
DTEND;TZID=America/Denver:20240327T120000
DTSTAMP:20260420T210514
CREATED:20240214T161502Z
LAST-MODIFIED:20240222T154715Z
UID:2262-1711522800-1711540800@umc.us
SUMMARY:2024 UMC Summit: Utah
DESCRIPTION:
URL:https://umc.us/event/2024-summit-utah/
LOCATION:Thanksgiving Point-Show Barn\, 2476 Sycamore Lane\, Lehi\, UT\, 84043\, United States
END:VEVENT
BEGIN:VEVENT
DTSTART;TZID=America/Denver:20240320T070000
DTEND;TZID=America/Denver:20240320T120000
DTSTAMP:20260420T210514
CREATED:20240214T160810Z
LAST-MODIFIED:20240214T160810Z
UID:2264-1710918000-1710936000@umc.us
SUMMARY:2024 UMC Summit: Colorado
DESCRIPTION:
URL:https://umc.us/event/2024-umc-summit-colorado/
LOCATION:Coors Field – Conference Center\, 2001 Blake St\, Denver\, CO\, 80205\, United States
END:VEVENT
BEGIN:VEVENT
DTSTART;TZID=America/Denver:20240313T070000
DTEND;TZID=America/Denver:20240313T120000
DTSTAMP:20260420T210514
CREATED:20240213T222409Z
LAST-MODIFIED:20240214T161132Z
UID:2259-1710313200-1710331200@umc.us
SUMMARY:2024 UMC Summit: Idaho
DESCRIPTION:
URL:https://umc.us/event/2024-umc-summit/
LOCATION:Idaho Office\, 2178 E Summersweet Dr\, Boise\, UT\, 83716\, United States
ORGANIZER;CN="Events Commitee":MAILTO:events@umc.us
END:VEVENT
BEGIN:VEVENT
DTSTART;TZID=America/Denver:20231208T170000
DTEND;TZID=America/Denver:20231208T220000
DTSTAMP:20260420T210514
CREATED:20230927T172237Z
LAST-MODIFIED:20231011T163059Z
UID:1571-1702054800-1702072800@umc.us
SUMMARY:Colorado Christmas Party
DESCRIPTION:
URL:https://umc.us/event/colorado-christmas-party/
LOCATION:Church Ranch Events Center\, 10200 Wadsworth Blvd\, Westminster\, Colorado\, 80021
ORGANIZER;CN="Events Commitee":MAILTO:events@umc.us
END:VEVENT
BEGIN:VEVENT
DTSTART;TZID=America/Denver:20231207T170000
DTEND;TZID=America/Denver:20231207T220000
DTSTAMP:20260420T210514
CREATED:20230927T172100Z
LAST-MODIFIED:20231011T205436Z
UID:1568-1701968400-1701986400@umc.us
SUMMARY:Idaho Christmas Party
DESCRIPTION:
URL:https://umc.us/event/idaho-christmas-party/
LOCATION:Waters Edge Event Center\, 287 E Shore Drive\, Eagle\, Idaho\, 83616
END:VEVENT
BEGIN:VEVENT
DTSTART;TZID=America/Denver:20231201T170000
DTEND;TZID=America/Denver:20231201T220000
DTSTAMP:20260420T210514
CREATED:20230927T155543Z
LAST-MODIFIED:20231117T181415Z
UID:1557-1701450000-1701468000@umc.us
SUMMARY:UMC Utah Christmas Party
DESCRIPTION:Parking Information:
URL:https://umc.us/event/umc-utah-christmas-party/
LOCATION:Private: Utah Valley Convention Center\, 220 W Center St\, Provo\, Utah\, 84601
ORGANIZER;CN="Events Commitee":MAILTO:events@umc.us
END:VEVENT
END:VCALENDAR