BEGIN:VCALENDAR
VERSION:2.0
PRODID:-//UMC - ECPv6.13.1//NONSGML v1.0//EN
CALSCALE:GREGORIAN
METHOD:PUBLISH
X-WR-CALNAME:UMC
X-ORIGINAL-URL:https://umc.us
X-WR-CALDESC:Events for UMC
REFRESH-INTERVAL;VALUE=DURATION:PT1H
X-Robots-Tag:noindex
X-PUBLISHED-TTL:PT1H
BEGIN:VTIMEZONE
TZID:America/Denver
BEGIN:DAYLIGHT
TZOFFSETFROM:-0700
TZOFFSETTO:-0600
TZNAME:MDT
DTSTART:20240310T090000
END:DAYLIGHT
BEGIN:STANDARD
TZOFFSETFROM:-0600
TZOFFSETTO:-0700
TZNAME:MST
DTSTART:20241103T080000
END:STANDARD
END:VTIMEZONE
BEGIN:VEVENT
DTSTART;TZID=America/Denver:20240622T100000
DTEND;TZID=America/Denver:20240622T190000
DTSTAMP:20260423T111842
CREATED:20240411T202404Z
LAST-MODIFIED:20240620T211342Z
UID:2348-1719050400-1719082800@umc.us
SUMMARY:2024 UMC Summer Party!
DESCRIPTION:Come and join the fun at the UMC Summer Party! 
URL:https://umc.us/event/2024-umc-summer-party/
LOCATION:Elitch Gardens\, 2000 Elitch Cir\, Denver\, 80204\, United States
ORGANIZER;CN="Events Commitee":MAILTO:events@umc.us
END:VEVENT
END:VCALENDAR