BEGIN:VCALENDAR
VERSION:2.0
PRODID:-//UMC - ECPv6.13.1//NONSGML v1.0//EN
CALSCALE:GREGORIAN
METHOD:PUBLISH
X-WR-CALNAME:UMC
X-ORIGINAL-URL:https://umc.us
X-WR-CALDESC:Events for UMC
REFRESH-INTERVAL;VALUE=DURATION:PT1H
X-Robots-Tag:noindex
X-PUBLISHED-TTL:PT1H
BEGIN:VTIMEZONE
TZID:America/Denver
BEGIN:DAYLIGHT
TZOFFSETFROM:-0700
TZOFFSETTO:-0600
TZNAME:MDT
DTSTART:20230312T090000
END:DAYLIGHT
BEGIN:STANDARD
TZOFFSETFROM:-0600
TZOFFSETTO:-0700
TZNAME:MST
DTSTART:20231105T080000
END:STANDARD
END:VTIMEZONE
BEGIN:VEVENT
DTSTART;TZID=America/Denver:20231208T170000
DTEND;TZID=America/Denver:20231208T220000
DTSTAMP:20260423T203555
CREATED:20230927T172237Z
LAST-MODIFIED:20231011T163059Z
UID:1571-1702054800-1702072800@umc.us
SUMMARY:Colorado Christmas Party
DESCRIPTION:
URL:https://umc.us/event/colorado-christmas-party/
LOCATION:Church Ranch Events Center\, 10200 Wadsworth Blvd\, Westminster\, Colorado\, 80021
ORGANIZER;CN="Events Commitee":MAILTO:events@umc.us
END:VEVENT
END:VCALENDAR